Workbook

Sheet PP Worksheet
B2: PROGRAM PLANNING WORKSHEET
B4: Name: | N4: ID Number:
B5: Registering For: | G5: Spring 27 | J5: Major(s): | S5: Minor(s):
A7: Pre-Registered Courses:
B8: Course Number | G8: Course Title | Q8: Credit Hours | S8: Satisfies: Gen-Ed, Major/Minor, Elective
G9: =IFERROR(VLOOKUP(B9,Courses!$A:$D,2,0)," ") | Q9: =IFERROR(VLOOKUP(B9,Courses!$A:$D,3,0)," ") | S9: =IFERROR(VLOOKUP(B9,Courses!$A:$D,4,0)," ")
G10: =IFERROR(VLOOKUP(B10,Courses!$A:$D,2,0)," ") | Q10: =IFERROR(VLOOKUP(B10,Courses!$A:$D,3,0)," ") | S10: =IFERROR(VLOOKUP(B10,Courses!$A:$D,4,0)," ")
G11: =IFERROR(VLOOKUP(B11,Courses!$A:$D,2,0)," ") | Q11: =IFERROR(VLOOKUP(B11,Courses!$A:$D,3,0)," ") | S11: =IFERROR(VLOOKUP(B11,Courses!$A:$D,4,0)," ")
G12: =IFERROR(VLOOKUP(B12,Courses!$A:$D,2,0)," ") | Q12: =IFERROR(VLOOKUP(B12,Courses!$A:$D,3,0)," ") | S12: =IFERROR(VLOOKUP(B12,Courses!$A:$D,4,0)," ")
G13: =IFERROR(VLOOKUP(B13,Courses!$A:$D,2,0)," ") | Q13: =IFERROR(VLOOKUP(B13,Courses!$A:$D,3,0)," ") | S13: =IFERROR(VLOOKUP(B13,Courses!$A:$D,4,0)," ")
G14: =IFERROR(VLOOKUP(B14,Courses!$A:$D,2,0)," ") | Q14: =IFERROR(VLOOKUP(B14,Courses!$A:$D,3,0)," ") | S14: =IFERROR(VLOOKUP(B14,Courses!$A:$D,4,0)," ")
O15: Total Credits: | Q15: =SUM(Q9:R14) -> 0
A16: Alternative Courses:
B17: Course Number | G17: Course Title | Q17: Credit Hours | S17: Satisfies: Gen Ed, Major/Minor, Elective
G18: =IFERROR(VLOOKUP(B18,Courses!$A:$D,2,0)," ") | Q18: =IFERROR(VLOOKUP(B18,Courses!$A:$D,3,0)," ") | S18: =IFERROR(VLOOKUP(B18,Courses!$A:$D,4,0)," ")
G19: =IFERROR(VLOOKUP(B19,Courses!$A:$D,2,0)," ") | Q19: =IFERROR(VLOOKUP(B19,Courses!$A:$D,3,0)," ") | S19: =IFERROR(VLOOKUP(B19,Courses!$A:$D,4,0)," ")
G20: =IFERROR(VLOOKUP(B20,Courses!$A:$D,2,0)," ") | Q20: =IFERROR(VLOOKUP(B20,Courses!$A:$D,3,0)," ") | S20: =IFERROR(VLOOKUP(B20,Courses!$A:$D,4,0)," ")
G21: =IFERROR(VLOOKUP(B21,Courses!$A:$D,2,0)," ") | Q21: =IFERROR(VLOOKUP(B21,Courses!$A:$D,3,0)," ") | S21: =IFERROR(VLOOKUP(B21,Courses!$A:$D,4,0)," ")
G22: =IFERROR(VLOOKUP(B22,Courses!$A:$D,2,0)," ") | Q22: =IFERROR(VLOOKUP(B22,Courses!$A:$D,3,0)," ") | S22: =IFERROR(VLOOKUP(B22,Courses!$A:$D,4,0)," ")
G23: =IFERROR(VLOOKUP(B23,Courses!$A:$D,2,0)," ") | Q23: =IFERROR(VLOOKUP(B23,Courses!$A:$D,3,0)," ") | S23: =IFERROR(VLOOKUP(B23,Courses!$A:$D,4,0)," ")
B24: *Advisement was based on Degree Progress Report/Academic Requirement Report
B25: *Please check your detailed schedule on Gullnet
B26: Notes:
B32: Pre-registered and suggested courses are based on the information provided by the student via the online pre-registration survey. It is the student’s responsibility to ensure that all information shared is accurate, that transcripts are received in a timely manner and that the courses listed on this sheet are necessary for degree completion.
B34: Student may update schedule starting
B36: Prepared by | P36: Date | Q36: =TODAY() -> 46295
B37: Email Questions to

Sheet Courses
A1: Full | B1: Catalog Descr | C1: Min Units | D1: Fulfills | F1: UPDATED: | G1: 9.10.2026
A2: CCE | B2: CIVIC AND COMMUNITY ENGAGEMENT | D2: GENL24-CCE
A3: DI | B3: DIVERSITY AND INCLUSION | D3: GENL24-DI
A4: ES | B4: ENVIRONMENTAL SUSTAINBILITY | D4: GENL24-ES
A5: FYS | B5: FIRST YEAR SEMINAR | C5: 4 | D5: GENL24-FYS
A6: CTW | B6: COMMUNICATING THROUGH WRITING | C6: 4 | D6: GENL24-CTW
A7: QA | B7: QUANTITATIVE ANALYSIS | D7: GENL24-QA
A8: HE | B8: HUMAN EXPRESSION | C8: 4 | D8: GENL24-HE
A9: HIC | B9: HUMANITY IN CONTEXT | C9: 4 | D9: GENL24-HIC
A10: SC | B10: SOCIAL CONFIGURATIONS | D10: GENL24-SC
A11: SI | B11: SOCIAL ISSUES | D11: GENL24-SI
A12: HOS | B12: HANDS-ON SCIENCE | C12: 4 | D12: GENL24-HOS
A13: STS | B13: SOLUTIONS THROUGH SCIENCE | D13: GENL24-STS
A14: PW | B14: PERSONAL WELLNESS | C14: 4 | D14: GENL24-PW
A15: EL | B15: EXPERIENTIAL LEARNING | D15: GENL24-EL
A16: ELE | B16: MAJOR ELECTIVE | D16: MAJOR
A17: FREE ELE | B17: FREE ELECTIVE | D17: ELECTIVE
A18: ACCT 201 | B18: INTRO TO FINANCIAL ACCT | C18: 3
A19: ACCT 202 | B19: INTRO TO MANAGERIAL ACCT | C19: 3
A20: ACCT 248 | B20: LEGAL ENVIRONMENT OF BUSINESS | C20: 3
A21: ACCT 302 | B21: COST ACCOUNTING I | C21: 3
A22: ACCT 304 | B22: INTERMEDIATE ACCOUNTING I | C22: 3
A23: ACCT 305 | B23: INTERMEDIATE ACCOUNTING II | C23: 3
A24: ACCT 338 | B24: SPECIAL TOPICS IN ACCT | C24: 3
A25: ACCT 341 | B25: INTRODUCTION TO TAXATION | C25: 3
A26: ACCT 342 | B26: FED INCOME TAX: PART & CORP | C26: 3
A27: ACCT 348 | B27: BUSINESS LAW | C27: 3
A28: ACCT 403 | B28: ADVANCED ACCOUNTING I | C28: 3
A29: ACCT 407 | B29: AUDITING | C29: 3
... A42: ACCT 494 | B42: DIRECTED STUDY | C42: 1
A43: ACCT 497 | B43: ACCT CAPSTONE INTERNSHIP | C43: 3 | D43: GENL CCE&GENL EL
A44: ACCT 498 | B44: FRAUD EXAM EXPERIENTIAL I | C44: 3
A45: ACCT 499 | B45: FRAUD EXAM EXPERIENTIAL II | C45: 3
A46: ACCT 510 | B46: GRADUATE SURVEY OF ACCT | C46: 3
A47: ACCT 518 | B47: FRAUD EXAMINATION | C47: 3
A48: ACCT 552 | B48: FINANCIAL STATEMENT FRAUD | C48: 3
A49: ACCT 553 | B49: WHITE COLLAR CRIME | C49: 3
A50: ACCT 605 | B50: FINANCIAL ACCT THEORY | C50: 3
A51: ACCT 608 | B51: ADVANCED AUDITING | C51: 3
A52: ACCT 615 | B52: GOV & NON-PROFIT ACCT | C52: 3
...
